BEGIN:VCALENDAR
VERSION:2.0
PRODID:-//Entre Hermanos - ECPv6.15.20//NONSGML v1.0//EN
CALSCALE:GREGORIAN
METHOD:PUBLISH
X-ORIGINAL-URL:https://entrehermanos.org
X-WR-CALDESC:Events for Entre Hermanos
REFRESH-INTERVAL;VALUE=DURATION:PT1H
X-Robots-Tag:noindex
X-PUBLISHED-TTL:PT1H
BEGIN:VTIMEZONE
TZID:America/Los_Angeles
BEGIN:DAYLIGHT
TZOFFSETFROM:-0800
TZOFFSETTO:-0700
TZNAME:PDT
DTSTART:20240310T100000
END:DAYLIGHT
BEGIN:STANDARD
TZOFFSETFROM:-0700
TZOFFSETTO:-0800
TZNAME:PST
DTSTART:20241103T090000
END:STANDARD
BEGIN:DAYLIGHT
TZOFFSETFROM:-0800
TZOFFSETTO:-0700
TZNAME:PDT
DTSTART:20250309T100000
END:DAYLIGHT
BEGIN:STANDARD
TZOFFSETFROM:-0700
TZOFFSETTO:-0800
TZNAME:PST
DTSTART:20251102T090000
END:STANDARD
BEGIN:DAYLIGHT
TZOFFSETFROM:-0800
TZOFFSETTO:-0700
TZNAME:PDT
DTSTART:20260308T100000
END:DAYLIGHT
BEGIN:STANDARD
TZOFFSETFROM:-0700
TZOFFSETTO:-0800
TZNAME:PST
DTSTART:20261101T090000
END:STANDARD
END:VTIMEZONE
BEGIN:VEVENT
DTSTART;TZID=America/Los_Angeles:20250602T120000
DTEND;TZID=America/Los_Angeles:20250602T130000
DTSTAMP:20260425T122141
CREATED:20250530T073246Z
LAST-MODIFIED:20250604T065712Z
UID:5349-1748865600-1748869200@entrehermanos.org
SUMMARY:Pride Month 2025: Tukwila Pride Flag Raising
DESCRIPTION:🏳️‍🌈✨ Join Entre Hermanos at the Tukwila Pride Flag Raising! ✨🏳️‍🌈🗓️ June 2nd | 12:00 PM📍 Tukwila City Hall (6200 Southcenter Blvd) \nKick off Pride Month with joy\, color\, and community! 🎉 Entre Hermanos is proud to join the City of Tukwila for their annual Pride Flag Raising Ceremony and you’re invited to stand tall with us! \nLet’s raise the flag high and loud in celebration of love\, identity\, and inclusion! This is more than just a flag\, it’s a symbol of the vibrant\, resilient\, and powerful LGBTQIA+ community in our region. \n🎊 Bring your friends\, your flags\, and your best rainbow vibes. We’ll see you at Tukwila City Hall at noon sharp! \n💬 Questions? Want to connect with us there? Reach out\, we’d love to see you!\n¡Con orgullo y con amor\, celebremos juntos! \n❤️🧡💛💚💙💜💙💚💛🧡❤️ \n🏳️‍🌈✨¡Acompaña a Entre Hermanos en la Ceremonia de Izamiento de la Bandera del Orgullo en Tukwila! ✨🏳️‍🌈🗓️ 2 de junio | 12:00 PM📍 Ayuntamiento de Tukwila (6200 Southcenter Blvd) \n¡Demos inicio al Mes del Orgullo con alegría\, color y comunidad! 🎉 Entre Hermanos se enorgullece de unirse a la Ciudad de Tukwila para su ceremonia anual de izamiento de la bandera del Orgullo\, ¡y tú estás invitadx a celebrar con nosotrxs! \nVamos a levantar la bandera bien alto y con fuerza\, en celebración del amor\, la identidad y la inclusión. Esta bandera es mucho más que un símbolo\, es un reflejo de la comunidad LGBTQIA+ vibrante\, resistente y poderosa de nuestra región. \n🎊 Trae a tus amistades\, tus banderas y tu mejor vibra arcoíris—¡nos vemos en el Ayuntamiento de Tukwila al mediodía en punto! \n💬 ¿Tienes preguntas? ¿Quieres conectar con nosotros allí? ¡Escríbenos\, nos encantaría verte!\n¡Con orgullo y con amor\, celebremos juntos!
URL:https://entrehermanos.org/event/pride-month-2025-tukwila-pride-flag-raising/
LOCATION:Tukwila City Hall\, 6200 Southcenter Blvd\, Tukwila\, WA\, 98188\, United States
CATEGORIES:Past Events
ATTACH;FMTTYPE=image/png:https://entrehermanos.org/wp-content/uploads/2025/05/EventPrideJun2.png
END:VEVENT
BEGIN:VEVENT
DTSTART;TZID=America/Los_Angeles:20250604T120000
DTEND;TZID=America/Los_Angeles:20250604T130000
DTSTAMP:20260425T122141
CREATED:20250530T073220Z
LAST-MODIFIED:20250610T200618Z
UID:5366-1749038400-1749042000@entrehermanos.org
SUMMARY:Pride Month 2025: Olympia Pride Flag Raising
DESCRIPTION:🏳️‍🌈✨ Join Entre Hermanos at the Olympia Pride Flag Raising! ✨🏳️‍🌈🗓️ June 4th | 12:00 PM📍 Washington State Capitol (416 Sid Snyder Ave SW) \nKick off Pride Month with joy\, color\, and community! 🎉 Entre Hermanos is proud to join the City of Olympia for their annual Pride Flag Raising Ceremony and you’re invited to stand tall with us! \nLet’s raise the flag high and loud in celebration of love\, identity\, and inclusion! This is more than just a flag\, it’s a symbol of the vibrant\, resilient\, and powerful LGBTQIA+ community in our region. \n🎊 Bring your friends\, your flags\, and your best rainbow vibes. We’ll see you at the Washington State Capitol at noon sharp! \n💬 Questions? Want to connect with us there? Reach out\, we’d love to see you!\n¡Con orgullo y con amor\, celebremos juntos! \n❤️🧡💛💚💙💜💙💚💛🧡❤️ \n🏳️‍🌈✨¡Acompaña a Entre Hermanos en la Ceremonia de Izamiento de la Bandera del Orgullo en Olympia! ✨🏳️‍🌈🗓️ 4 de junio | 12:00 PM📍 Capitolio del Estado de Washington (416 Sid Snyder Ave SW) \n¡Demos inicio al Mes del Orgullo con alegría\, color y comunidad! 🎉 Entre Hermanos se enorgullece de unirse a la Ciudad de Olympia para su ceremonia anual de izamiento de la bandera del Orgullo\, ¡y tú estás invitadx a celebrar con nosotrxs! \nVamos a levantar la bandera bien alto y con fuerza\, en celebración del amor\, la identidad y la inclusión. Esta bandera es mucho más que un símbolo\, es un reflejo de la comunidad LGBTQIA+ vibrante\, resistente y poderosa de nuestra región. \n🎊 Trae a tus amistades\, tus banderas y tu mejor vibra arcoíris—¡nos vemos en el Capitolio del Estado de Washington al mediodía en punto! \n💬 ¿Tienes preguntas? ¿Quieres conectar con nosotros allí? ¡Escríbenos\, nos encantaría verte!\n¡Con orgullo y con amor\, celebremos juntos!
URL:https://entrehermanos.org/event/pride-month-2025-olympia-pride-flag-raising/
LOCATION:Washington State Capitol\, 416 Sid Snyder Ave SW\, Olympia\, WA\, 98504\, United States
CATEGORIES:Past Events
ATTACH;FMTTYPE=image/png:https://entrehermanos.org/wp-content/uploads/2025/05/EventPrideJune13.png
END:VEVENT
BEGIN:VEVENT
DTSTART;TZID=America/Los_Angeles:20250604T120000
DTEND;TZID=America/Los_Angeles:20250604T140000
DTSTAMP:20260425T122141
CREATED:20250530T073239Z
LAST-MODIFIED:20250605T222547Z
UID:5356-1749038400-1749045600@entrehermanos.org
SUMMARY:Pride Month 2025: Bellevue Pride Flag Raising
DESCRIPTION:🏳️‍🌈✨ Join Entre Hermanos at the Bellevue Pride Flag Raising! ✨🏳️‍🌈🗓️ June 4th | 12:00 PM📍 Bellevue City Hall (450 110th Ave NE) \nKick off Pride Month with joy\, color\, and community! 🎉 Entre Hermanos is proud to join the City of Bellevue for their annual Pride Flag Raising Ceremony and you’re invited to stand tall with us! \nLet’s raise the flag high and loud in celebration of love\, identity\, and inclusion! This is more than just a flag\, it’s a symbol of the vibrant\, resilient\, and powerful LGBTQIA+ community in our region. \n🎊 Bring your friends\, your flags\, and your best rainbow vibes. We’ll see you at Bellevue City Hall at noon sharp! \n💬 Questions? Want to connect with us there? Reach out\, we’d love to see you!\n¡Con orgullo y con amor\, celebremos juntos! \n❤️🧡💛💚💙💜💙💚💛🧡❤️ \n🏳️‍🌈✨¡Acompaña a Entre Hermanos en la Ceremonia de Izamiento de la Bandera del Orgullo en Bellevue! ✨🏳️‍🌈🗓️ 4 de junio | 12:00 PM📍 Ayuntamiento de Bellevue (450 110th Ave NE) \n¡Demos inicio al Mes del Orgullo con alegría\, color y comunidad! 🎉 Entre Hermanos se enorgullece de unirse a la Ciudad de Bellevue para su ceremonia anual de izamiento de la bandera del Orgullo\, ¡y tú estás invitadx a celebrar con nosotrxs! \nVamos a levantar la bandera bien alto y con fuerza\, en celebración del amor\, la identidad y la inclusión. Esta bandera es mucho más que un símbolo\, es un reflejo de la comunidad LGBTQIA+ vibrante\, resistente y poderosa de nuestra región. \n🎊 Trae a tus amistades\, tus banderas y tu mejor vibra arcoíris—¡nos vemos en el Ayuntamiento de Bellevue al mediodía en punto! \n💬 ¿Tienes preguntas? ¿Quieres conectar con nosotros allí? ¡Escríbenos\, nos encantaría verte!\n¡Con orgullo y con amor\, celebremos juntos!
URL:https://entrehermanos.org/event/pride-month-2025-bellevue-pride-flag-raising/
LOCATION:Bellevue City Hall\, 450 110th Ave NE\, Bellevue\, WA\, 98004\, United States
CATEGORIES:Past Events
ATTACH;FMTTYPE=image/png:https://entrehermanos.org/wp-content/uploads/2025/05/EventPrideJun4.png
END:VEVENT
BEGIN:VEVENT
DTSTART;TZID=America/Los_Angeles:20250607T120000
DTEND;TZID=America/Los_Angeles:20250607T230000
DTSTAMP:20260425T122141
CREATED:20250604T071018Z
LAST-MODIFIED:20250610T200436Z
UID:5437-1749297600-1749337200@entrehermanos.org
SUMMARY:Pride Month 2025: White Center Pride
DESCRIPTION:🎉🎶 Celebrate with Entre Hermanos at the White Center Street Festival! 🎶🎉🗓️ Saturday\, June 7 | ⏰ 12:00 PM – 11:00 PM📍 Downtown White Center (SW 16th Ave & Roxbury) \nJoin us for a full day of música\, comida\, cultura\, and community at one of the most vibrant neighborhood festivals in Seattle! \n🌈 Stop by our booth to grab some swag\, connect with our team\, and learn about our work supporting the Latine LGBTQIA+ community. Let’s celebrate resilience\, joy\, and pride! \n🌈 Whether you’re part of the Latine LGBTQIA+ community or an awesome ally\, we’d love to see your smiling face and festive spirit! \n🎉 Free admission | Family-friendly | All are welcome!🎉 \nSee you June 7 in White Center! 💜 \nWant to join us at the Seattle Pride Parade on June 29th? Register here! \n❤️🧡💛💚💙💜💙💚💛🧡❤️ \n🎉🎶 ¡Celebra con Entre Hermanos en el White Center Street Festival!🎶 🎉🗓️ Sábado\, 7 de junio | ⏰ 12:00 PM – 11:00 PM📍 Centro de White Center (SW 16th Ave & Roxbury) \n¡Acompáñanos para un día completo de música\, comida\, cultura y comunidad en uno de los festivales vecinales más vibrantes de Seattle! \n🌈 Visita nuestro puesto para llevarte regalitos\, conocer a nuestro equipo y aprender sobre nuestro trabajo en apoyo a la comunidad Latine LGBTQIA+. ¡Celebremos la resiliencia\, la alegría y el orgullo! \n🌈 Ya seas parte de la comunidad Latine LGBTQIA+ o un/a aliado/a increíble\, ¡nos encantaría ver tu sonrisa y espíritu festivo! \n🎉 Entrada gratuita | Para toda la familia | ¡Todos son bienvenidos!🎉 \nNos vemos el 7 de junio en White Center! 💜 \n¿Quieres participar con nosotros en el Desfile del Orgullo de Seattle el 29 de junio? ¡Inscríbete aquí!
URL:https://entrehermanos.org/event/pride-month-2025-white-center-pride/
LOCATION:Downtown White Center\, Downtown White Center (SW 16th Ave & Roxbury)\, White Center\, WA\, 98106\, United States
CATEGORIES:Past Events
ATTACH;FMTTYPE=image/png:https://entrehermanos.org/wp-content/uploads/2025/06/EventPrideJune7WC.png
END:VEVENT
BEGIN:VEVENT
DTSTART;TZID=America/Los_Angeles:20250627T170000
DTEND;TZID=America/Los_Angeles:20250627T220000
DTSTAMP:20260425T122141
CREATED:20250604T085335Z
LAST-MODIFIED:20250707T064137Z
UID:5448-1751043600-1751061600@entrehermanos.org
SUMMARY:Pride Month 2025: Trans Pride Seattle
DESCRIPTION:🏳️‍🌈🎉 Entre Hermanos at Trans Pride Seattle! 🎉🏳️‍🌈🗓️ Saturday\, June 27 | ⏰ 5:00pm – 10:00pm📍 Volunteer Park Amphitheater \nTrans Pride Seattle is a free annual festival celebrating Trans life and community across the Pacific Northwest and beyond! A love letter to Trans people everywhere\, TPS increases the strength of the TwoSpirit\, Trans\, & Gender Diverse (2STGD) community and our allies through increased visibility\, connection\, love\, and the celebration of our lives. \n✨ Whether you’re here to celebrate your identity\, support your loved ones\, or just bask in the beauty of trans and Latinx excellence\, this is your space to shine. ✨ \n🌈 Everyone who supports + affirms Trans life is invited! \nWant to join us at the Seattle Pride Parade on June 29th? Register here! \nSee you at Volunteer Park on June 27! \n❤️🧡💛💚💙💜💙💚💛🧡❤️ \n🏳️‍🌈🎉 ¡Entre Hermanos en Trans Pride Seattle! 🎉🏳️‍🌈🗓️ Sábado\, 27 de junio | ⏰ 5:00pm – 10:00pm📍 Anfiteatro de Volunteer Park \nTrans Pride Seattle es un festival anual gratuito que celebra la vida y comunidad Trans en todo el Noroeste del Pacífico ¡y más allá! Es una carta de amor para las personas Trans en todas partes. TPS fortalece a la comunidad Dos Espíritus\, Trans y de Género Diverso (2STGD)\, así como a nuestras aliadas\, mediante mayor visibilidad\, conexión\, amor y la celebración de nuestras vidas. \n✨ Ya sea que vengas a celebrar tu identidad\, apoyar a tus seres queridos o simplemente disfrutar de la belleza de la excelencia Trans y Latinx\, este es tu espacio para brillar. ✨ \n🌈 ¡Todas las personas que apoyan y afirman las vidas Trans están invitadas! \n¿Quieres participar con nosotros en el Desfile del Orgullo de Seattle el 29 de junio? ¡Inscríbete aquí! \n¡Nos vemos en Volunteer Park el 27 de junio!
URL:https://entrehermanos.org/event/pride-month-2025-trans-pride-seattle/
LOCATION:Volunteer Park Amphitheater\, 1139-1157 Volunteer Park Rd\, Seattle\, WA\, 98102\, United States
CATEGORIES:Past Events
ATTACH;FMTTYPE=image/png:https://entrehermanos.org/wp-content/uploads/2025/06/EventPrideJuneTrans.png
END:VEVENT
END:VCALENDAR