BEGIN:VCALENDAR
VERSION:2.0
PRODID:-//Entre Hermanos - ECPv6.15.20//NONSGML v1.0//EN
CALSCALE:GREGORIAN
METHOD:PUBLISH
X-WR-CALNAME:Entre Hermanos
X-ORIGINAL-URL:https://entrehermanos.org
X-WR-CALDESC:Events for Entre Hermanos
REFRESH-INTERVAL;VALUE=DURATION:PT1H
X-Robots-Tag:noindex
X-PUBLISHED-TTL:PT1H
BEGIN:VTIMEZONE
TZID:America/Los_Angeles
BEGIN:DAYLIGHT
TZOFFSETFROM:-0800
TZOFFSETTO:-0700
TZNAME:PDT
DTSTART:20240310T100000
END:DAYLIGHT
BEGIN:STANDARD
TZOFFSETFROM:-0700
TZOFFSETTO:-0800
TZNAME:PST
DTSTART:20241103T090000
END:STANDARD
BEGIN:DAYLIGHT
TZOFFSETFROM:-0800
TZOFFSETTO:-0700
TZNAME:PDT
DTSTART:20250309T100000
END:DAYLIGHT
BEGIN:STANDARD
TZOFFSETFROM:-0700
TZOFFSETTO:-0800
TZNAME:PST
DTSTART:20251102T090000
END:STANDARD
BEGIN:DAYLIGHT
TZOFFSETFROM:-0800
TZOFFSETTO:-0700
TZNAME:PDT
DTSTART:20260308T100000
END:DAYLIGHT
BEGIN:STANDARD
TZOFFSETFROM:-0700
TZOFFSETTO:-0800
TZNAME:PST
DTSTART:20261101T090000
END:STANDARD
END:VTIMEZONE
BEGIN:VEVENT
DTSTART;TZID=America/Los_Angeles:20251025T170000
DTEND;TZID=America/Los_Angeles:20251025T220000
DTSTAMP:20260425T050712
CREATED:20250623T180047Z
LAST-MODIFIED:20260408T184338Z
UID:5523-1761411600-1761429600@entrehermanos.org
SUMMARY:Día de Muertos Gala 2025
DESCRIPTION:Join us for Entre Hermanos’ most anticipated event of the year!\nThe Día de Muertos Gala 2025 celebrates the journeys of our LGBTQ+ Latine community\, with a special tribute to our trans sisters.\nMonarcas – We Migrate\, We Transform\, We Thrive\nEnjoy an unforgettable evening featuring: \nElectrifying performances \nGourmet Latin-inspired cuisine \nPowerful storytelling \nFundraising auction \nA night of remembrance\, joy\, and solidarity \n\nSheraton Grand Seattle\nSaturday\, October 25\, 2025 | Doors open at 5:00 PM\nChoose from Early Bird\, Community Access\, General Admission\, or Champion Supporter tickets. \nReserve your spot and be part of a night that uplifts\, honors\, and inspires. \nChoose the ticket level that best fits your capacity: \nEarly Bird – $165 | Available until August 1 \nRegular Admission – $185 | Starting August 2 \nChampion Supporter – $350 \nReserve your spot now! \n\nWant to take your support to the next level? \nYour partnership tells a story of compassion\, visibility\, and action. By sponsoring our gala\, you help Entre Hermanos continue to uplift LGBTQ+ Latine lives through health\, advocacy\, and community. \nAll sponsors receive VIP tickets\, recognition\, and exclusive visibility benefits. \nFor full information\, click here for our Sponsorship Packet! \nQuestions? Contact C-Ghaddra@EntreHermanos.org
URL:https://entrehermanos.org/event/dia-de-muertos-gala-2025/
LOCATION:Sheraton Grand Seattle\, 1400 6th Ave\, Seattle\, WA\, 98101\, United States
CATEGORIES:Fundraiser,Past Events
ATTACH;FMTTYPE=image/png:https://entrehermanos.org/wp-content/uploads/2025/06/Screenshot-2025-10-06-at-12.51.49-PM.png
END:VEVENT
END:VCALENDAR