BEGIN:VCALENDAR
VERSION:2.0
PRODID:-//Entre Hermanos - ECPv6.15.20//NONSGML v1.0//EN
CALSCALE:GREGORIAN
METHOD:PUBLISH
X-ORIGINAL-URL:https://entrehermanos.org
X-WR-CALDESC:Events for Entre Hermanos
REFRESH-INTERVAL;VALUE=DURATION:PT1H
X-Robots-Tag:noindex
X-PUBLISHED-TTL:PT1H
BEGIN:VTIMEZONE
TZID:America/Los_Angeles
BEGIN:DAYLIGHT
TZOFFSETFROM:-0800
TZOFFSETTO:-0700
TZNAME:PDT
DTSTART:20240310T100000
END:DAYLIGHT
BEGIN:STANDARD
TZOFFSETFROM:-0700
TZOFFSETTO:-0800
TZNAME:PST
DTSTART:20241103T090000
END:STANDARD
BEGIN:DAYLIGHT
TZOFFSETFROM:-0800
TZOFFSETTO:-0700
TZNAME:PDT
DTSTART:20250309T100000
END:DAYLIGHT
BEGIN:STANDARD
TZOFFSETFROM:-0700
TZOFFSETTO:-0800
TZNAME:PST
DTSTART:20251102T090000
END:STANDARD
BEGIN:DAYLIGHT
TZOFFSETFROM:-0800
TZOFFSETTO:-0700
TZNAME:PDT
DTSTART:20260308T100000
END:DAYLIGHT
BEGIN:STANDARD
TZOFFSETFROM:-0700
TZOFFSETTO:-0800
TZNAME:PST
DTSTART:20261101T090000
END:STANDARD
END:VTIMEZONE
BEGIN:VEVENT
DTSTART;TZID=America/Los_Angeles:20250712T170000
DTEND;TZID=America/Los_Angeles:20250712T220000
DTSTAMP:20260425T203133
CREATED:20250604T201213Z
LAST-MODIFIED:20250827T195835Z
UID:5457-1752339600-1752357600@entrehermanos.org
SUMMARY:Pride Month 2025: Seattle Latinx Pride
DESCRIPTION:🎉 Entre Hermanos at Seattle Latinx Pride! 🎉🗓️ Saturday\, July 12 | ⏰ 5:00pm – 10:00pm📍 Plaza Roberto Maestas (2601 17th Ave S\, Seattle) \nWe’re bringing the fiesta to Seattle Latinx Pride! Join Entre Hermanos for a night of música\, cultura\, and comunidad as we celebrate our beautiful\, vibrant Latine LGBTQIA+ family. \n💃🏽 Expect powerful performances\, inspiring speakers\, community resources\, and joyful connection. We’ll be showing up loud and proud porque existimos\, resistimos y celebramos juntos. \n🌈 All are welcome\, whether you’re queer\, trans\, questioning\, or a fierce ally. Let’s honor our roots\, uplift each other\, and dance into Pride weekend with love and orgullo. \n🎉 Cultura viva | Comunidad poderosa | Orgullo sin fronteras \nWant to join us at the Seattle Pride Parade on June 29th? Register here! \nSee you on the 12th at Latinx Pride—¡prepárate para brillar!✨ \n❤️🧡💛💚💙💜💙💚💛🧡❤️ \n🏳️‍🌈🎉 ¡Entre Hermanos en Seattle Latinx Pride! 🎉🏳️‍🌈🗓️ Sábado\, 12 de julio | ⏰ 5:00pm – 10:00pm📍Plaza Roberto Maestas (2601 17th Ave S\, Seattle) \n¡Traemos la fiesta al Latinx Pride de Seattle! Acompaña a Entre Hermanos en una noche de música\, cultura y comunidad mientras celebramos a nuestra hermosa y vibrante familia LGBTQIA+ Latine. \n💃🏽 Disfruta de presentaciones poderosas\, voces inspiradoras\, recursos comunitarios y conexión con alegría. Estaremos presentes con orgullo porque existimos\, resistimos y celebramos juntos. \n🌈 ¡Todos son bienvenidos! Seas queer\, trans\, explorando tu identidad o uno aliado increíble\, celebremos nuestras raíces\, nos cuidamos mutuamente y damos inicio al fin de semana del Orgullo con mucho amor. \n🎉 Cultura viva | Comunidad poderosa | Orgullo sin fronteras \n¿Quieres participar con nosotros en el Desfile del Orgullo de Seattle el 29 de junio? ¡Inscríbete aquí! \nNos vemos el 12 en Latinx Pride—¡prepárate para brillar!✨
URL:https://entrehermanos.org/event/5457/
LOCATION:Plaza Roberto Maestas\, 2601 17th Ave S\, Seattle\, WA\, 98144\, United States
CATEGORIES:Past Events
ATTACH;FMTTYPE=image/png:https://entrehermanos.org/wp-content/uploads/2025/06/Pride-2025-Events-Latinx-Pride.png
END:VEVENT
BEGIN:VEVENT
DTSTART;TZID=America/Los_Angeles:20250727T170000
DTEND;TZID=America/Los_Angeles:20250727T230000
DTSTAMP:20260425T203133
CREATED:20250711T193303Z
LAST-MODIFIED:20250827T195759Z
UID:5564-1753635600-1753657200@entrehermanos.org
SUMMARY:Movie In The Park
DESCRIPTION:Entre Hermanos Presents: Movie In The Park \n 🗓️Sunday July 27th\, 2025 | 5pm- 11pm\n📍Othello Playground\, 45th Ave S & S Othello St\nJoin us for a night of cinema under the stars! Entre Hermanos is pleased to showcase award- winning\, Oscar- nominated film\, The Shadow of the Sun\, directed by Miguel Ángel Ferrer. This Venezuelan film tells a beautiful story of passion\, perseverance\, and brotherhood. Bring your blankets\, lawn chairs\, friends\, and family to join us for this free community event! \nEvening will kick off at 5pm with a DJ set by SJ\, Live Art with Alex Siniscacchi\, and a special guest Mcee. \nFree Tamales for the first 100 attendees! \nMovie screening will begin at sunset\, the film will be shown in Spanish with English subtitles. \n🎞️RSVP Here!🎞️ \nThis event is made possible thanks to the support of Seattle Parks and Recreation and Seattle Office of Arts and Culture! \nEntre Hermanos Presenta: Movie In The Park \n🗓️Domingo 27 de Julio\, 2025| 5pm á 11pm \n📍Othello Playground\, 45th Ave S & S Othello St \n¡Acompáñanos para una noche de cine bajo las estrellas! Entre Hermanos se complace en presentar una obra nominada para los premios Oscar\, La Sombra del Sol\, dirigida por Miguel Ángel Ferrer. Esta película venezolana cuenta una hermosa historia de pasión\, perseverancia y hermandad. Trae tus mantas\, sillas plegables\, amistades y familia para disfrutar de este evento comunitario gratuito. \nLa velada comenzará a las 5 pm con un set de DJ a cargo de SJ\, arte en vivo con Alex Siniscacchi y una maestre de ceremonias invitade especial. \n¡Tamales gratis de Frelard Tamales para les primeres 100 asistentes! \nLa proyección de la película comenzará al atardecer y será mostrada en español con subtítulos en inglés. \n🎞️¡Confirma tu asistencia aqui!🎞️ \nEste evento es posible gracias al apoyo de Seattle Parks and Recreation y la Oficina de Artes y Cultura de Seattle.
URL:https://entrehermanos.org/event/movie-in-the-park/
LOCATION:Othello Playground\, 45th Ave S + S Othello St\, Seattle\, WA\, United States
CATEGORIES:Past Events
ATTACH;FMTTYPE=image/jpeg:https://entrehermanos.org/wp-content/uploads/2025/07/1.jpg
END:VEVENT
END:VCALENDAR