BEGIN:VCALENDAR
VERSION:2.0
PRODID:-//Entre Hermanos - ECPv6.15.20//NONSGML v1.0//EN
CALSCALE:GREGORIAN
METHOD:PUBLISH
X-WR-CALNAME:Entre Hermanos
X-ORIGINAL-URL:https://entrehermanos.org
X-WR-CALDESC:Events for Entre Hermanos
REFRESH-INTERVAL;VALUE=DURATION:PT1H
X-Robots-Tag:noindex
X-PUBLISHED-TTL:PT1H
BEGIN:VTIMEZONE
TZID:America/Los_Angeles
BEGIN:DAYLIGHT
TZOFFSETFROM:-0800
TZOFFSETTO:-0700
TZNAME:PDT
DTSTART:20160313T100000
END:DAYLIGHT
BEGIN:STANDARD
TZOFFSETFROM:-0700
TZOFFSETTO:-0800
TZNAME:PST
DTSTART:20161106T090000
END:STANDARD
BEGIN:DAYLIGHT
TZOFFSETFROM:-0800
TZOFFSETTO:-0700
TZNAME:PDT
DTSTART:20170312T100000
END:DAYLIGHT
BEGIN:STANDARD
TZOFFSETFROM:-0700
TZOFFSETTO:-0800
TZNAME:PST
DTSTART:20171105T090000
END:STANDARD
BEGIN:DAYLIGHT
TZOFFSETFROM:-0800
TZOFFSETTO:-0700
TZNAME:PDT
DTSTART:20180311T100000
END:DAYLIGHT
BEGIN:STANDARD
TZOFFSETFROM:-0700
TZOFFSETTO:-0800
TZNAME:PST
DTSTART:20181104T090000
END:STANDARD
BEGIN:DAYLIGHT
TZOFFSETFROM:-0800
TZOFFSETTO:-0700
TZNAME:PDT
DTSTART:20190310T100000
END:DAYLIGHT
BEGIN:STANDARD
TZOFFSETFROM:-0700
TZOFFSETTO:-0800
TZNAME:PST
DTSTART:20191103T090000
END:STANDARD
END:VTIMEZONE
BEGIN:VEVENT
DTSTART;TZID=America/Los_Angeles:20181102T170000
DTEND;TZID=America/Los_Angeles:20181102T220000
DTSTAMP:20260425T195754
CREATED:20171221T230717Z
LAST-MODIFIED:20181119T184438Z
UID:1717-1541178000-1541196000@entrehermanos.org
SUMMARY:Dia de los Muertos Gala
DESCRIPTION:Entre Hermanos Dia De Los Muertos Gala\nOur annual gala\, Dia De Los Muertos\, is the biggest fundraising event of the year.\nWe are honored to have you attend this incredible event!\nWe will have live entertainment\, leaders of the community speaking on behalf of the work that is being done\, and most importantly\, together\, we will be able to expand upon the services that Entre Hermanos has for the community. \nOur guest speakers are AG Bob Ferguson and Representative Nicole Macri! \nThank you\,\nEntre Hermanos \nMore info Here: https://mailchi.mp/ede70d611e8d/are-you-excited-about-the-gala-dont-miss-out?fbclid=IwAR3P8afe251l94h-zWnrlVVt6rK2rcnaDgDGNlm_sDvr7o_cg0TTvwqj0OQ
URL:https://entrehermanos.org/event/dia-de-los-muertos-gala/
LOCATION:Arctic Club\, 700 3rd Ave\, Seattle\, WA\, 98104\, United States
ATTACH;FMTTYPE=image/jpeg:https://entrehermanos.org/wp-content/uploads/2017/12/Entre-Hermanos-poster-logo-grande.jpg
ORGANIZER;CN="Miguel Angel Duncan-Bravo":MAILTO:miguel@entrehermanos.org
END:VEVENT
BEGIN:VEVENT
DTSTART;TZID=America/Los_Angeles:20181017T180000
DTEND;TZID=America/Los_Angeles:20181017T200000
DTSTAMP:20260425T195754
CREATED:20181016T235123Z
LAST-MODIFIED:20181023T010105Z
UID:2361-1539799200-1539806400@entrehermanos.org
SUMMARY:Foro Comunitario
DESCRIPTION:Acompáñanos este Miércoles 17 de Octubre en nuestro Foro Comunitario en donde discutiremos sobre el “Día Nacional Latinx Para la Concientización del SIDA”. \nHora: 6 pm\nLugar: 12 Ave ARTS Building (Pike-Pine Room)\nEvento Gratis\nHabrá rica cena\, pruebas orales de VIH\, inscripción para ORCA LIFT y Mucho más. \nEl Día Nacional Latino para la Concientización del SIDA (NLAAD por sus siglas en inglés) es una campaña nacional de mercadeo social que une a la comunidad Hispana/Latina alrededor del VIH\, la promoción de la prueba del VIH\, la prevención y educación sobre diferentes temas de salud como la hepatitis viral\, enfermedades de transmisión sexual y tuberculosis. \nEl 15 de Octubre de cada año\, NLAAD moviliza a organizaciones comunitarias\, líderes de la comunidad latina\, departamentos de salud y los funcionarios electos para difundir el mensaje de educación del VIH\, llevar a cabo mejoras en las prácticas de salud\, y poner en el centro de atención los rostros latinos detrás de la epidemia. \nEstaremos dando Gratis Pruebas orales de VIH “OraQuick” para hacerse la prueba en tu propia casa. \nTambién SDOT – King Street Station estará ofreciendo tarjetas ORCA LIFT precargadas con $108 para los que quieran obtener este beneficio. \nNational Latinx AIDS Awareness Day
URL:https://entrehermanos.org/event/foro-comunitario-2/
ATTACH;FMTTYPE=image/png:https://entrehermanos.org/wp-content/uploads/2018/10/Foro-17-de-Octubre.png
ORGANIZER;CN="Lesster Munguia":MAILTO:lesster@entrehermanos.org
END:VEVENT
BEGIN:VEVENT
DTSTART;TZID=America/Los_Angeles:20181014T120000
DTEND;TZID=America/Los_Angeles:20181014T160000
DTSTAMP:20260425T195754
CREATED:20180817T225013Z
LAST-MODIFIED:20181119T184843Z
UID:2213-1539518400-1539532800@entrehermanos.org
SUMMARY:Clases de Ciudadanía / Citizenship class
DESCRIPTION:Ofrecemos clases de ciudadanía para aplicantes que requieren asistencia en la preparación de su examen de naturalización. Habrá actividades interactivas con los instructores y en trabajos grupales practicamos las partes de leer\, escribir y hablar en inglés para el examen. Además\, las clases incluyen la preparación referente a las 100 preguntas de educación cívica (historia y gobierno) de los Estados Unidos y realizamos entrevistas de práctica. Las clases bilingües son dirigidas a refugiados e inmigrantes elegibles para la ciudadanía y serán conducidas principalmente en inglés\, de ese modo mejorando el conocimiento de inglés de cada estudiante. \n  \nWe offer Citizenship classes for applicants that need assistance in preparing for their citizenship exam. In interactive activities students work in small groups and with instructors to practice for the reading\, writing and speaking part of the Naturalization Interview. Moreover\, the classes include preparation for the 100 citizenship questions as well as mock interviews to practice for the naturalization interview. The classes are addressing eligible immigrants and refugees that want to become U.S. citizens. The bilingual classes will be conducted mostly in English\, in that way enhancing the English proficiency of each student. \n  \nPARA REGISTRARSE Y MÁS INFORMACIÓN\nPóngase en contacto con:\nEric Holzapfel\neric@entrehermanos.org\n(206) 486-9755
URL:https://entrehermanos.org/event/clases-de-ciudadania-citizenship-class/
ATTACH;FMTTYPE=image/jpeg:https://entrehermanos.org/wp-content/uploads/2018/08/clases-de-ciudadania-EH-page-001-e1534546446194.jpg
END:VEVENT
BEGIN:VEVENT
DTSTART;TZID=America/Los_Angeles:20180926T140000
DTEND;TZID=America/Los_Angeles:20180926T170000
DTSTAMP:20260425T195754
CREATED:20180604T200713Z
LAST-MODIFIED:20181009T204045Z
UID:2092-1537970400-1537981200@entrehermanos.org
SUMMARY:Clínica de Inmigración/Immigration Clinic
DESCRIPTION:Contacten a nuestro programa de inmigración para una cita: 206-486-9755 o inmigracion@entrehermanos.org
URL:https://entrehermanos.org/event/clinica-de-inmigracion-immigration-clinic/
LOCATION:Entre Hermanos\, 1621 S Jackson St. Suite 202\, Seattle\, 98144\, United States
ATTACH;FMTTYPE=image/jpeg:https://entrehermanos.org/wp-content/uploads/2018/03/legalimmigration.jpg
END:VEVENT
BEGIN:VEVENT
DTSTART;TZID=America/Los_Angeles:20180922T090000
DTEND;TZID=America/Los_Angeles:20180922T150000
DTSTAMP:20260425T195754
CREATED:20180917T205118Z
LAST-MODIFIED:20181023T010056Z
UID:2300-1537606800-1537628400@entrehermanos.org
SUMMARY:Asamblea Regional de las Trabajadoras del Hogar
DESCRIPTION:(English below)\nTe invitamos para que juntxs celebremos la victoria de la carta de derechos para lxs trabajadorxs del hogar (limpiadorxs de casas\, niñerxs\, cuidadorxs de personas mayores\, jardinerxs y cosinerxs) en nuestra asamblea regional 2018. Todo esto surgió por la necesidad de crear un espacio donde las mujeres y hombres se organicen para luchar por dignificar su trabajo y crear mejores condiciones laborales sin dejar a un lado su propio desafío como padres y madres inmigrantes\, donde puedan trabajar juntxs por y para la justicia social\, ¡¡¡Nos organizamos\, luchamos y ganamos!!! \nLa concejal Teresa Mosqueda campeona de la Carta de derechos nos dará unas poderosas e inspiradoras palabras por el triunfo de todxs lxs trabajadorxs del hogar. \nTalleres:\n1) Conoce tus nuevos derechos como trabajadora del hogar\n2) Asalto y Acoso Sexual/Recursos disponibles\n3) Sanarse a uno mismo es sanar a la comunidad\n​\nCuando: Sábado septiembre 22\, 2018 \nDónde: Iglesia Santa Maria \nHorario: 9:00am-3:00pm \nTendremos Cuidado de niños\, desayuno y almuerzo\, todo esto es GRATIS. \nPlease join us in celebration of the Seattle Bill of Rights for Domestic Workers – house cleaners\, nannies\, homecare workers\, gardeners and cooks- at our 2018 regional assembly. This bill arose from the need to create a space in which domestic workers can organize for more dignified working conditions despite their own challenges as immigrant women and men\, a space in which they can fight together for social justice—We organize\, we fight\, and we win!!! \nCity Councilmember Teresa Mosqueda\, champion of the Bill of Rights\, will give us powerful and inspiring words about this victory for domestic workers. \nWorkshops: 1) Know your new rights as a domestic worker\n2) Assault and Sexual Harassment/Available Resources\n3) Healing oneself heals the whole community \nWhen: Saturday September 22\, 2018 \nWhere: Santa Maria Church \nHours: 9:00a.m.-3:00p.m. \nWe will provide FREE childcare\, breakfast\, and lunch.
URL:https://entrehermanos.org/event/asamblea-regional-de-las-trabajadoras-del-hogar/
LOCATION:St Mary’s Church\, 611 20th Ave S\, Seattle\, 98144\, United States
ATTACH;FMTTYPE=image/jpeg:https://entrehermanos.org/wp-content/uploads/2018/09/asamblea-regional-FINAL.2.jpg
END:VEVENT
BEGIN:VEVENT
DTSTART;TZID=America/Los_Angeles:20180815T180000
DTEND;TZID=America/Los_Angeles:20180815T200000
DTSTAMP:20260425T195754
CREATED:20180813T183113Z
LAST-MODIFIED:20180816T230325Z
UID:2195-1534356000-1534363200@entrehermanos.org
SUMMARY:Foro Comunitario
DESCRIPTION:Ven este Miércoles 15 de Agosto a nuestro Foro Comunitario y aprende sobre la campaña de prevención del VIH:\n“Indetectable = Intransmisible”\nEl Departamento de Salud del estado de Washington anunció el 31 de Julio de este año\, que se ha unido a la campaña de prevención del VIH Indetectable = Intransmisible\, también conocida como I=I (U = U por sus siglas en inglés). \nI=I describe el hallazgo científico de que las personas que tienen VIH\, y que tiene niveles de VIH indetectables en la sangre\, no tienen riesgo de transmitirle el VIH a sus parejas. Debido a que el tratamiento evita que estas personas transmitan el virus\, el concepto se conoce como “tratamiento como prevención”. \n-Este es un evento GRATIS\n-Proveeremos CENA \nFecha: Miércoles\, 15 de Agosto\nHora: 06:00 pm\nDirección: 12 Ave ARTS BUILDING en Capitol Hill (1620 12th Ave\, Seattle\, WA 98122
URL:https://entrehermanos.org/event/foro-comunitario/
ATTACH;FMTTYPE=image/png:https://entrehermanos.org/wp-content/uploads/2018/08/foro-Indetectable.png
END:VEVENT
BEGIN:VEVENT
DTSTART;TZID=America/Los_Angeles:20180714T110000
DTEND;TZID=America/Los_Angeles:20180714T110000
DTSTAMP:20260425T195754
CREATED:20171221T230540Z
LAST-MODIFIED:20171221T230540Z
UID:1715-1531566000-1531566000@entrehermanos.org
SUMMARY:Latinx Pride
DESCRIPTION:Date and time are still TBA.
URL:https://entrehermanos.org/event/latinx-pride/
END:VEVENT
BEGIN:VEVENT
DTSTART;TZID=America/Los_Angeles:20180603T130000
DTEND;TZID=America/Los_Angeles:20180603T160000
DTSTAMP:20260425T195754
CREATED:20171220T225630Z
LAST-MODIFIED:20180604T200420Z
UID:1709-1528030800-1528041600@entrehermanos.org
SUMMARY:South Park Pride Picnic
DESCRIPTION:
URL:https://entrehermanos.org/event/south-park-pride-picnic/
ATTACH;FMTTYPE=image/png:https://entrehermanos.org/wp-content/uploads/2017/12/southparkespanolmayo32018.png
END:VEVENT
BEGIN:VEVENT
DTSTART;TZID=America/Los_Angeles:20180529T130000
DTEND;TZID=America/Los_Angeles:20180529T160000
DTSTAMP:20260425T195754
CREATED:20180406T173849Z
LAST-MODIFIED:20180604T200451Z
UID:1876-1527598800-1527609600@entrehermanos.org
SUMMARY:Clínica de Inmigración/Immigration Clinic
DESCRIPTION:Contacten a Eric para una cita: 206-486-9755 o eric@entrehermanos.org
URL:https://entrehermanos.org/event/immigration-clinic/
LOCATION:Entre Hermanos\, 1621 S Jackson St. Suite 202\, Seattle\, 98144\, United States
ATTACH;FMTTYPE=image/jpeg:https://entrehermanos.org/wp-content/uploads/2018/03/1370277454.jpg
END:VEVENT
BEGIN:VEVENT
DTSTART;TZID=America/Los_Angeles:20180506T120000
DTEND;TZID=America/Los_Angeles:20180506T120000
DTSTAMP:20260425T195754
CREATED:20171221T230259Z
LAST-MODIFIED:20180514T021502Z
UID:1713-1525608000-1525608000@entrehermanos.org
SUMMARY:5 De Mayo Brunch
DESCRIPTION:Entre Hermanos 5 De Mayo Brunch                                                      TICKETS\nA fundraising brunch for Entre Hermanos\, Washington’s only Latino LGBTQ nonprofit! \nCome celebrate another year of services offered to the LGBTQ Latino community in the state with Entre Hermanos! Join us for our Cinco de Mayo Brunch on Sunday\, May 6th\, 2018 at El Gallito Restaurant in Capitol Hill! Enjoy music\, friends\, and delicious authentic Mexican food. \nYour support will help Entre Hermanos continue our mission to promote the health and well-being of the Latino gay\, lesbian\, bisexual\, transgender\, and questioning community in a culturally appropriate environment through disease prevention\, education\, support services\, advocacy and community building. \nBuy your tickets before they sell out!
URL:https://entrehermanos.org/event/5-de-mayo-brunch/
LOCATION:El Gallito\, 1700 20th Ave\, Seattle\, WA\, 98122\, United States
ATTACH;FMTTYPE=image/png:https://entrehermanos.org/wp-content/uploads/2017/12/5-de-mayo-para-website.png
END:VEVENT
BEGIN:VEVENT
DTSTART;TZID=America/Los_Angeles:20180404T173000
DTEND;TZID=America/Los_Angeles:20180404T193000
DTSTAMP:20260425T195754
CREATED:20180308T230300Z
LAST-MODIFIED:20180308T230300Z
UID:1858-1522863000-1522870200@entrehermanos.org
SUMMARY:Noche de película
DESCRIPTION:
URL:https://entrehermanos.org/event/noche-de-pelicula/
END:VEVENT
BEGIN:VEVENT
DTSTART;TZID=America/Los_Angeles:20180322T130000
DTEND;TZID=America/Los_Angeles:20180322T160000
DTSTAMP:20260425T195754
CREATED:20180308T224333Z
LAST-MODIFIED:20180308T224333Z
UID:1856-1521723600-1521734400@entrehermanos.org
SUMMARY:Clínica Legal / Immigration clinic
DESCRIPTION:
URL:https://entrehermanos.org/event/clinica-legal-immigration-clinic/
END:VEVENT
BEGIN:VEVENT
DTSTART;TZID=America/Los_Angeles:20180203T100000
DTEND;TZID=America/Los_Angeles:20180203T140000
DTSTAMP:20260425T195754
CREATED:20180126T012200Z
LAST-MODIFIED:20180213T192553Z
UID:1809-1517652000-1517666400@entrehermanos.org
SUMMARY:Citizenship/Consultation Clinic
DESCRIPTION:Contacte a nuestro administrador de inmigración para atender:\nEric Holzapfel: 206-486-9755 o eric@entrehermanos.org \nSeattle United for Immigrants and Refugees\nRegister
URL:https://entrehermanos.org/event/citizenship-consultation-clinic/
LOCATION:Seattle Center- Exhibition Hall\, 301 Mercer St\, Seattle\, WA\, 98109\, United States
ATTACH;FMTTYPE=image/jpeg:https://entrehermanos.org/wp-content/uploads/2018/01/city-event.jpg
END:VEVENT
BEGIN:VEVENT
DTSTART;TZID=America/Los_Angeles:20180201T130000
DTEND;TZID=America/Los_Angeles:20180201T160000
DTSTAMP:20260425T195754
CREATED:20171218T231454Z
LAST-MODIFIED:20180213T192623Z
UID:1656-1517490000-1517500800@entrehermanos.org
SUMMARY:Immigration Consultation Clinic (Call for Appointment)
DESCRIPTION:We are excited to offer our Immigration Consultation Clinic. \nIn order to attend you must schedule an appointment. \nPlease contact Eric Holzapfel @ 206-486-9755 or eric@entrehermanos.org
URL:https://entrehermanos.org/event/immigration-consultation-clinic-call-for-appointment/
LOCATION:Entre Hermanos\, 1621 S Jackson St. Suite 202\, Seattle\, 98144\, United States
ATTACH;FMTTYPE=image/jpeg:https://entrehermanos.org/wp-content/uploads/2017/12/legalimmigration.jpg
END:VEVENT
BEGIN:VEVENT
DTSTART;TZID=America/Los_Angeles:20180129T130000
DTEND;TZID=America/Los_Angeles:20180129T170000
DTSTAMP:20260425T195754
CREATED:20171219T000217Z
LAST-MODIFIED:20171219T000217Z
UID:1682-1517230800-1517245200@entrehermanos.org
SUMMARY:Free HIV Testing
DESCRIPTION:Free HIV Testing every Monday\, 1-5pm at Entre Hermanos \nIncentivo de $20 para MSM
URL:https://entrehermanos.org/event/free-hiv-testing-10/
ATTACH;FMTTYPE=image/jpeg:https://entrehermanos.org/wp-content/uploads/2017/06/hiv-testing.jpg
END:VEVENT
BEGIN:VEVENT
DTSTART;TZID=America/Los_Angeles:20180128T140000
DTEND;TZID=America/Los_Angeles:20180128T150000
DTSTAMP:20260425T195754
CREATED:20171218T235544Z
LAST-MODIFIED:20171218T235544Z
UID:1671-1517148000-1517151600@entrehermanos.org
SUMMARY:Mucho Gusto Radio
DESCRIPTION:Escuchamos todos los domingos a las 2:00 pm por la 99.3 FM La GranD. \nEscuchanos en vivo \nwww.lagranderadio.com
URL:https://entrehermanos.org/event/mucho-gusto-radio-10/
ATTACH;FMTTYPE=image/jpeg:https://entrehermanos.org/wp-content/uploads/2017/01/15941117_10154440961503731_9090216488261360983_n.jpg
END:VEVENT
BEGIN:VEVENT
DTSTART;TZID=America/Los_Angeles:20180123T110000
DTEND;TZID=America/Los_Angeles:20180123T173000
DTSTAMP:20260425T195754
CREATED:20171219T213016Z
LAST-MODIFIED:20180126T012431Z
UID:1701-1516705200-1516728600@entrehermanos.org
SUMMARY:WAISN Immigrant and Refugee Lobby Day
DESCRIPTION:The Washington Immigrant Solidarity Network (WAISN) is hosting the first annual Immigrant and Refugee lobby day for the 2018 Washington legislative session. Join hundreds of organizations and individuals on January 23rd to lobby for pro-immigrant policies to support ALL Washington residents. \nThe day’s schedule will include: \n11am-1:00pm Lobby Day Training: Introduction and Advocacy \n1:00-2:00pm Action: Rally at the Capital Rotunda \n2:00 – 4:00pm Lobbying: Meetings with your legislators \n4:00 – 5:00pm Closing: Wrap Up and Debrief \nWe will provide trainings\, material and food.\nRSVP Here: http://bit.ly/WAISNLobbyDay2018
URL:https://entrehermanos.org/event/waisn-immigrant-and-refugee-lobby-day/
LOCATION:Washigton State Labor Council 906 Columbia St SW\, 906 Columbia St SW\, Olympia\, Washington\, 98501
ATTACH;FMTTYPE=image/png:https://entrehermanos.org/wp-content/uploads/2017/12/Screen-Shot-2017-12-19-at-1.25.41-PM.png
END:VEVENT
BEGIN:VEVENT
DTSTART;TZID=America/Los_Angeles:20180122T130000
DTEND;TZID=America/Los_Angeles:20180122T170000
DTSTAMP:20260425T195754
CREATED:20171219T000137Z
LAST-MODIFIED:20171219T000137Z
UID:1680-1516626000-1516640400@entrehermanos.org
SUMMARY:Free HIV Testing
DESCRIPTION:Free HIV Testing every Monday\, 1-5pm at Entre Hermanos \nIncentivo de $20 para MSM
URL:https://entrehermanos.org/event/free-hiv-testing-9/
ATTACH;FMTTYPE=image/jpeg:https://entrehermanos.org/wp-content/uploads/2017/06/hiv-testing.jpg
END:VEVENT
BEGIN:VEVENT
DTSTART;TZID=America/Los_Angeles:20180121T140000
DTEND;TZID=America/Los_Angeles:20180121T150000
DTSTAMP:20260425T195754
CREATED:20171218T235452Z
LAST-MODIFIED:20171218T235452Z
UID:1669-1516543200-1516546800@entrehermanos.org
SUMMARY:Mucho Gusto Radio
DESCRIPTION:Escuchamos todos los domingos a las 2:00 pm por la 99.3 FM La GranD. \nEscuchanos en vivo \nwww.lagranderadio.com
URL:https://entrehermanos.org/event/mucho-gusto-radio-9/
ATTACH;FMTTYPE=image/jpeg:https://entrehermanos.org/wp-content/uploads/2017/01/15941117_10154440961503731_9090216488261360983_n.jpg
END:VEVENT
BEGIN:VEVENT
DTSTART;TZID=America/Los_Angeles:20180117T180000
DTEND;TZID=America/Los_Angeles:20180117T200000
DTSTAMP:20260425T195754
CREATED:20171218T231459Z
LAST-MODIFIED:20180126T012450Z
UID:1657-1516212000-1516219200@entrehermanos.org
SUMMARY:Citizenship Info Session
DESCRIPTION:On January 17th we will carry out a Citizenship Info Session for Spanish speakers by providing information\, helping with worksheet completion and advising on what documents to bring so that they are able to complete their application. \nIf you have any questions please contact Eric Holzapfel @ 206-486-9755 or eric@entrehermanos.org
URL:https://entrehermanos.org/event/citizenship-info-session/
LOCATION:Casa Latina\, 317 17th Ave S\, Seattle\, WA\, 98144\, United States
ATTACH;FMTTYPE=image/jpeg:https://entrehermanos.org/wp-content/uploads/2017/12/110716141300.jpg
END:VEVENT
BEGIN:VEVENT
DTSTART;TZID=America/Los_Angeles:20180115T130000
DTEND;TZID=America/Los_Angeles:20180115T170000
DTSTAMP:20260425T195754
CREATED:20171219T000046Z
LAST-MODIFIED:20171219T000046Z
UID:1678-1516021200-1516035600@entrehermanos.org
SUMMARY:Free HIV Testing
DESCRIPTION:Free HIV Testing every Monday\, 1-5pm at Entre Hermanos \nIncentivo de $20 para MSM
URL:https://entrehermanos.org/event/free-hiv-testing-8/
ATTACH;FMTTYPE=image/jpeg:https://entrehermanos.org/wp-content/uploads/2017/06/hiv-testing.jpg
END:VEVENT
BEGIN:VEVENT
DTSTART;TZID=America/Los_Angeles:20180114T140000
DTEND;TZID=America/Los_Angeles:20180114T150000
DTSTAMP:20260425T195754
CREATED:20171218T235257Z
LAST-MODIFIED:20171218T235257Z
UID:1665-1515938400-1515942000@entrehermanos.org
SUMMARY:Mucho Gusto Radio
DESCRIPTION:Escuchamos todos los domingos a las 2:00 pm por la 99.3 FM La GranD. \nEscuchanos en vivo \nwww.lagranderadio.com
URL:https://entrehermanos.org/event/mucho-gusto-radio-7/
ATTACH;FMTTYPE=image/jpeg:https://entrehermanos.org/wp-content/uploads/2017/01/15941117_10154440961503731_9090216488261360983_n.jpg
END:VEVENT
BEGIN:VEVENT
DTSTART;TZID=America/Los_Angeles:20180108T130000
DTEND;TZID=America/Los_Angeles:20180108T170000
DTSTAMP:20260425T195754
CREATED:20171218T235949Z
LAST-MODIFIED:20171218T235949Z
UID:1676-1515416400-1515430800@entrehermanos.org
SUMMARY:Free HIV Testing
DESCRIPTION:Free HIV Testing every Monday\, 1-5pm at Entre Hermanos \nIncentivo de $20 para MSM
URL:https://entrehermanos.org/event/free-hiv-testing-7/
ATTACH;FMTTYPE=image/jpeg:https://entrehermanos.org/wp-content/uploads/2017/06/hiv-testing.jpg
END:VEVENT
BEGIN:VEVENT
DTSTART;TZID=America/Los_Angeles:20180107T140000
DTEND;TZID=America/Los_Angeles:20180107T150000
DTSTAMP:20260425T195754
CREATED:20171218T232323Z
LAST-MODIFIED:20171218T232323Z
UID:1663-1515333600-1515337200@entrehermanos.org
SUMMARY:Mucho Gusto Radio
DESCRIPTION:Escuchamos todos los domingos a las 2:00 pm por la 99.3 FM La GranD. \nEscuchanos en vivo \nwww.lagranderadio.com
URL:https://entrehermanos.org/event/mucho-gusto-radio-6/
ATTACH;FMTTYPE=image/jpeg:https://entrehermanos.org/wp-content/uploads/2017/01/15941117_10154440961503731_9090216488261360983_n.jpg
END:VEVENT
BEGIN:VEVENT
DTSTART;TZID=America/Los_Angeles:20180101T130000
DTEND;TZID=America/Los_Angeles:20180101T170000
DTSTAMP:20260425T195754
CREATED:20171218T235909Z
LAST-MODIFIED:20171218T235909Z
UID:1674-1514811600-1514826000@entrehermanos.org
SUMMARY:Free HIV Testing
DESCRIPTION:Free HIV Testing every Monday\, 1-5pm at Entre Hermanos \nIncentivo de $20 para MSM
URL:https://entrehermanos.org/event/free-hiv-testing-5/
ATTACH;FMTTYPE=image/jpeg:https://entrehermanos.org/wp-content/uploads/2017/06/hiv-testing.jpg
END:VEVENT
BEGIN:VEVENT
DTSTART;VALUE=DATE:20170904
DTEND;VALUE=DATE:20170905
DTSTAMP:20260425T195754
CREATED:20170901T185500Z
LAST-MODIFIED:20170901T185657Z
UID:1495-1504483200-1504569599@entrehermanos.org
SUMMARY:Closed
DESCRIPTION:Entre Hermanos office closed in observation of Labor Day.
URL:https://entrehermanos.org/event/closed/
END:VEVENT
BEGIN:VEVENT
DTSTART;TZID=America/Los_Angeles:20170825T170000
DTEND;TZID=America/Los_Angeles:20170825T200000
DTSTAMP:20260425T195754
CREATED:20170822T172118Z
LAST-MODIFIED:20170822T172118Z
UID:1473-1503680400-1503691200@entrehermanos.org
SUMMARY:Fiesta de Verano
DESCRIPTION:
URL:https://entrehermanos.org/event/fiesta-de-verano/
LOCATION:Entre Hermanos\, 1621 S Jackson St. Suite 202\, Seattle\, 98144\, United States
ATTACH;FMTTYPE=image/jpeg:https://entrehermanos.org/wp-content/uploads/2017/08/summer-party.jpg
END:VEVENT
BEGIN:VEVENT
DTSTART;TZID=America/Los_Angeles:20170723T220000
DTEND;TZID=America/Los_Angeles:20170723T220000
DTSTAMP:20260425T195754
CREATED:20170610T224429Z
LAST-MODIFIED:20170620T201501Z
UID:1350-1500847200-1500847200@entrehermanos.org
SUMMARY:Lucia Mendez en el Neighbours
DESCRIPTION:Entre Hermanos en colaboracion con Club Papi y Neighbours Club presenta a una de las grandes Divas Mexicanas.\nVen a disfrutar de sus extios en su gran tour.\nTendremos boletos en nuestras oficinas o en el Neighbours a partir de 18 de Junio\, \nAdmision General: $20 \nVIP : $50 \n 
URL:https://entrehermanos.org/event/lucia-mendez-en-el-neighbours/
ATTACH;FMTTYPE=image/jpeg:https://entrehermanos.org/wp-content/uploads/2017/06/clubpapi_seattle_0723_11x17-WEB.jpg
END:VEVENT
END:VCALENDAR