BEGIN:VCALENDAR
VERSION:2.0
PRODID:-//Entre Hermanos - ECPv6.15.20//NONSGML v1.0//EN
CALSCALE:GREGORIAN
METHOD:PUBLISH
X-ORIGINAL-URL:https://entrehermanos.org
X-WR-CALDESC:Events for Entre Hermanos
REFRESH-INTERVAL;VALUE=DURATION:PT1H
X-Robots-Tag:noindex
X-PUBLISHED-TTL:PT1H
BEGIN:VTIMEZONE
TZID:America/Los_Angeles
BEGIN:DAYLIGHT
TZOFFSETFROM:-0800
TZOFFSETTO:-0700
TZNAME:PDT
DTSTART:20230312T100000
END:DAYLIGHT
BEGIN:STANDARD
TZOFFSETFROM:-0700
TZOFFSETTO:-0800
TZNAME:PST
DTSTART:20231105T090000
END:STANDARD
BEGIN:DAYLIGHT
TZOFFSETFROM:-0800
TZOFFSETTO:-0700
TZNAME:PDT
DTSTART:20240310T100000
END:DAYLIGHT
BEGIN:STANDARD
TZOFFSETFROM:-0700
TZOFFSETTO:-0800
TZNAME:PST
DTSTART:20241103T090000
END:STANDARD
BEGIN:DAYLIGHT
TZOFFSETFROM:-0800
TZOFFSETTO:-0700
TZNAME:PDT
DTSTART:20250309T100000
END:DAYLIGHT
BEGIN:STANDARD
TZOFFSETFROM:-0700
TZOFFSETTO:-0800
TZNAME:PST
DTSTART:20251102T090000
END:STANDARD
BEGIN:DAYLIGHT
TZOFFSETFROM:-0800
TZOFFSETTO:-0700
TZNAME:PDT
DTSTART:20260308T100000
END:DAYLIGHT
BEGIN:STANDARD
TZOFFSETFROM:-0700
TZOFFSETTO:-0800
TZNAME:PST
DTSTART:20261101T090000
END:STANDARD
END:VTIMEZONE
BEGIN:VEVENT
DTSTART;TZID=America/Los_Angeles:20250629T100000
DTEND;TZID=America/Los_Angeles:20250629T160000
DTSTAMP:20260424T044549
CREATED:20250530T073212Z
LAST-MODIFIED:20250707T064131Z
UID:5341-1751191200-1751212800@entrehermanos.org
SUMMARY:Pride Parade 2025: "Carnaval"
DESCRIPTION:👉 CLICK HERE TO MARCH WITH US!\n🎉 Entre Hermanos Presents: CARNAVAL at Seattle Pride! 🎉🗓️ June 29th | Seattle Pride Parade🌈 2025 Pride Theme: LOUDER\nThis year\, we’re turning up the volume and hitting the streets LOUDER than ever! Join Entre Hermanos as we bring the fire\, rhythm\, and joy of Latin CARNAVAL to Seattle Pride! \nLOUDER means more than just volume. It’s about visibility\, advocacy\, and celebrating our resilience and strength in the face of opposition. And what better way to embody that spirit than with the bold\, unapologetic energy of Carnaval? \n💃🏽 Come dressed in your most festive Carnaval attire: feathers\, sequins\, masks\, and colors that scream JOY. We’re marching in pride and power\, and we want YOU to be part of the celebration!Let’s dance\, march\, and raise our voices—LOUDER\, prouder\, and in full color with Entre Hermanos. \n¡Viva el orgullo! ¡Viva el CARNAVAL! 🌟🌈🔥\n❤️🧡💛💚💙💜💙💚💛🧡❤️ \n👉 ¡HAZ CLIC AQUI PARA MARCHAR CON NOSTOROS!\n🎉 ¡Entre Hermanos presenta: CARNAVAL en el Seattle Pride! 🎉🗓️ 29 de junio | Desfile del Orgullo en Seattle🌈 Tema del Orgullo 2025: ¡MÁS FUERTE! (LOUDER)\n¡Este año alzamos la voz más fuerte que nunca! Únete a Entre Hermanos mientras llevamos la alegría\, el ritmo y el color del Carnaval Latino al desfile del Orgullo en Seattle. \n¡MÁS FUERTE! no solo habla de volumen—es una llamada a la visibilidad\, la defensa de nuestros derechos y la celebración de nuestra resiliencia y fortaleza. ¿Y qué mejor forma de representar eso que con la energía vibrante e inigualable del Carnaval? \n💃🏽🪇 Vístete con tu atuendo más festivo de Carnaval: ¡plumas\, lentejuelas\, máscaras y colores vivos que reflejen tu orgullo y alegría! Marchamos con poder\, amor y cultura… ¡y queremos que tú seas parte de esta fiesta! \nBailemos\, marchemos y levantemos nuestras voces—¡más fuertes\, con más orgullo y en todos los colores! \n¡Viva el Orgullo! ¡Viva el CARNAVAL! 🌟🌈🔥
URL:https://entrehermanos.org/event/pride-parade-2025/
LOCATION:4th Ave\, between Pike St and Denny Way\, 4th Avenue & Denny Way\, Seattle\, WA\, 98101\, United States
CATEGORIES:Past Events,Spotlight
ATTACH;FMTTYPE=image/png:https://entrehermanos.org/wp-content/uploads/2025/05/PrideEvents2025_Parade.png
END:VEVENT
BEGIN:VEVENT
DTSTART;TZID=America/Los_Angeles:20250621T100000
DTEND;TZID=America/Los_Angeles:20250621T180000
DTSTAMP:20260424T044549
CREATED:20250604T082127Z
LAST-MODIFIED:20250623T192257Z
UID:5442-1750500000-1750528800@entrehermanos.org
SUMMARY:Pride Month 2025: Yakima Pride Parade & Festival
DESCRIPTION:🏳️‍🌈🎉 Entre Hermanos is going to Yakima Pride! 🎉🏳️‍🌈🗓️ Saturday\, June 21 | ⏰ 10:00am – 6:00pm📍 State Fair Park (1301 S Fair Ave\, Yakima) \nWe’re heading east to march with pride at Yakima Pride! Join Entre Hermanos as we walk together for visibility\, love\, and justice for the Latine LGBTQIA+ community. \n💜 Bring your flags\, your energy\, and your best dance moves to celebrate Pride with our rural and Latine communities. We’ll be marching with joy\, sharing resources\, and showing that we’re here and proud. \n🌈 Be part of the movement—whether you’re part of the community or an amazing ally\, all identities and expressions are welcome! \n🎉 Inclusive vibes | United community | Pride from the heart \nWant to join us at the Seattle Pride Parade on June 29th? Register here! \nSee you in Yakima on June 21! \n❤️🧡💛💚💙💜💙💚💛🧡❤️ \n🏳️‍🌈🎉 ¡Entre Hermanos va a Yakima Pride! 🎉🏳️‍🌈🗓️ Sábado\, 21 de junio | ⏰ 10:00am – 6:00pm📍 State Fair Park (1301 S Fair Ave\, Yakima) \n¡Nos vamos al este del estado para marchar con orgullo en Yakima Pride! Únete a Entre Hermanos mientras caminamos juntos por la visibilidad\, el amor y la justicia para la comunidad Latine LGBTQIA+. \n💜 Ven con tu bandera\, tu energía y tus mejores pasos para celebrar el orgullo con nuestras comunidades rurales y latinas. Estaremos marchando con alegría\, compartiendo recursos y mostrando que estamos aquí y con orgullo. \n🌈 Se parte del movimiento—ya seas miembro de la comunidad o un aliado/a increíble\, ¡todas las identidades y expresiones son bienvenidas! \n🎉 Ambiente inclusivo | Comunidad unida | ¡Orgullo con corazón! \n¿Quieres participar con nosotros en el Desfile del Orgullo de Seattle el 29 de junio? ¡Inscríbete aquí! \n¡Nos vemos en Yakima el 21 de junio!
URL:https://entrehermanos.org/event/pride-month-2025-yakima-pride-parade-festival/
LOCATION:State Fair Park\, 1301 S Fair Ave\, Yakima\, WA\, 98901\, United States
CATEGORIES:Past Events,Spotlight
ATTACH;FMTTYPE=image/png:https://entrehermanos.org/wp-content/uploads/2025/06/EventPrideJuneYakima.png
END:VEVENT
BEGIN:VEVENT
DTSTART;TZID=America/Los_Angeles:20250504T100000
DTEND;TZID=America/Los_Angeles:20250504T130000
DTSTAMP:20260424T044549
CREATED:20250310T211701Z
LAST-MODIFIED:20250509T211227Z
UID:5129-1746352800-1746363600@entrehermanos.org
SUMMARY:Drágame Brunch
DESCRIPTION:Organized by Entre Hermanos\, this is more than just a drag brunch—it’s a movement\, a celebration\, and a powerful call to action! Now more than ever\, we must create spaces where we can come together\, grow\, express ourselves freely\, and uplift one another. This is our time to laugh\, dance\, connect\, and build community with our LGBTQ+ family and allies! \nAt Entre Hermanos\, we are committed to building a healthier\, stronger\, and more resilient Latine LGBTQ+ community. But we can’t do it alone. With increasing challenges to legal protections\, mental health access\, and social equity\, your support is more critical than ever. \nDrágame Brunch isn’t just about jaw-dropping performances and bottomless mimosas (though we’ve got plenty of that! 😉)—it’s about raising essential funds to sustain life-changing programs\, amplify advocacy efforts\, and ensure that our community continues to thrive with dignity\, safety\, and pride. \nBy attending or sponsoring this event\, you’re making a statement. You’re standing for inclusivity\, social change\, and the power of joyful resistance. You’re saying YES to community\, YES to visibility\, and YES to a future where we can all live freely and fabulously. \n💃 So grab your best brunch outfit\, round up your friends\, and let’s make magic happen—because together\, we create change! 🎉🏳️‍🌈
URL:https://entrehermanos.org/event/dragame-brunch/
LOCATION:Club Sur\, 2901 1st Ave S\, Seattle\, WA\, 98134\, United States
CATEGORIES:Past Events,Spotlight
ATTACH;FMTTYPE=image/png:https://entrehermanos.org/wp-content/uploads/2025/03/Portada-web-dragame-brunch-1.png
ORGANIZER;CN="Entre Hermanos":MAILTO:development@entrehermanos.org
END:VEVENT
BEGIN:VEVENT
DTSTART;TZID=America/Los_Angeles:20241006T173000
DTEND;TZID=America/Los_Angeles:20241006T200000
DTSTAMP:20260424T044549
CREATED:20240919T200450Z
LAST-MODIFIED:20241020T103409Z
UID:5064-1728235800-1728244800@entrehermanos.org
SUMMARY:Hidden Flora\, Seattle Latino Film Festival
DESCRIPTION:Celebrate the LGBTQ Spectrum at the Seattle Latino Film Festival! \n\n\n\nJoin us at SIFF Film Center to explore and celebrate LGBTQ stories within the Latinx community\, promoting inclusivity and diversity.\n\n\n\n\n\n Short Documentary: “Degenere / Degenerado” (Colombia\, 19 min)\nAfro\, LGBTIQ+\, Queer\nDirected by Sara Asprilla Palomino\n\n Synopsis: Doroty dreamed of dancing and being recognized as the woman she was\, but death came first. Now\, her best friend Misael\, a 60-year-old gay man\, will make her dream come true by forming the first diverse folk dance group and challenging cultural traditions to embrace queerness.\n\n\n\n Feature Narrative: “Hidden Flora / La Flora Oculta” (USA\, 2023\, 92 min)\nRomance\, Drama\, Comedy\, Queer\nDirected by Ryan Rox\n\n Synopsis: Follow Roxii\, a queer hopeless romantic in late 2000s New Mexico\, as they navigate love\, sex\, and identity in a world that often doesn’t see them.\n\n The director will be in attendance!\n\n\n\nSponsored by: Entre Hermanos \n\n\n\n Buy your tickets here: linktr.ee/slff
URL:https://entrehermanos.org/event/hidden-flora-seattle-latino-film-festival/
LOCATION:SIFF Film Center\, 305 Harrison St\, Seattle\, WA\, 98109\, United States
CATEGORIES:Past Events,Spotlight
ATTACH;FMTTYPE=image/jpeg:https://entrehermanos.org/wp-content/uploads/2024/09/Latino-Film-Festival-Hidden-flora.jpg
END:VEVENT
END:VCALENDAR