BEGIN:VCALENDAR
VERSION:2.0
PRODID:-//Entre Hermanos - ECPv6.15.20//NONSGML v1.0//EN
CALSCALE:GREGORIAN
METHOD:PUBLISH
X-ORIGINAL-URL:https://entrehermanos.org
X-WR-CALDESC:Events for Entre Hermanos
REFRESH-INTERVAL;VALUE=DURATION:PT1H
X-Robots-Tag:noindex
X-PUBLISHED-TTL:PT1H
BEGIN:VTIMEZONE
TZID:America/Los_Angeles
BEGIN:DAYLIGHT
TZOFFSETFROM:-0800
TZOFFSETTO:-0700
TZNAME:PDT
DTSTART:20240310T100000
END:DAYLIGHT
BEGIN:STANDARD
TZOFFSETFROM:-0700
TZOFFSETTO:-0800
TZNAME:PST
DTSTART:20241103T090000
END:STANDARD
BEGIN:DAYLIGHT
TZOFFSETFROM:-0800
TZOFFSETTO:-0700
TZNAME:PDT
DTSTART:20250309T100000
END:DAYLIGHT
BEGIN:STANDARD
TZOFFSETFROM:-0700
TZOFFSETTO:-0800
TZNAME:PST
DTSTART:20251102T090000
END:STANDARD
BEGIN:DAYLIGHT
TZOFFSETFROM:-0800
TZOFFSETTO:-0700
TZNAME:PDT
DTSTART:20260308T100000
END:DAYLIGHT
BEGIN:STANDARD
TZOFFSETFROM:-0700
TZOFFSETTO:-0800
TZNAME:PST
DTSTART:20261101T090000
END:STANDARD
END:VTIMEZONE
BEGIN:VEVENT
DTSTART;TZID=America/Los_Angeles:20251018T140000
DTEND;TZID=America/Los_Angeles:20251018T170000
DTSTAMP:20260425T160426
CREATED:20250912T224955Z
LAST-MODIFIED:20260408T184352Z
UID:5667-1760796000-1760806800@entrehermanos.org
SUMMARY:Seattle Latin Film Festival + Entre Hermanos Presents: Lolita
DESCRIPTION:Time & Location\n\n\nOctober 18th\, 2pm \nArk Lodge Cinemas \n4816 Rainier Ave South\nSeattle\, WA 98118\nUnited States\n\n\n  \n\n\n\n\n\n\nAbout the event\n\n\n\nJoin Seattle Latin Film Festival and Entre Hermanos for this special screening of Lolita. This critically acclaimed film directed by Jorge Xolapa\, centers queer and latino stories. Entre Hermanos is proud to support Seattle Latino Film Festival and their mission to share the beauty of latin cinema and storytelling. \nGet your tickets here! \n \n \n 
URL:https://entrehermanos.org/event/seattle-latin-film-festival-entre-hermanos-presents-lolita/
LOCATION:Ark Lodge Cinemas\, 4816 Rainier Ave South\, Seattle\, WA\, 98118\, United States
CATEGORIES:Past Events
ATTACH;FMTTYPE=image/png:https://entrehermanos.org/wp-content/uploads/2025/09/Screenshot-2025-09-12-at-3.32.42-PM.png
END:VEVENT
END:VCALENDAR