BEGIN:VCALENDAR
VERSION:2.0
PRODID:-//Entre Hermanos - ECPv6.15.20//NONSGML v1.0//EN
CALSCALE:GREGORIAN
METHOD:PUBLISH
X-ORIGINAL-URL:https://entrehermanos.org
X-WR-CALDESC:Events for Entre Hermanos
REFRESH-INTERVAL;VALUE=DURATION:PT1H
X-Robots-Tag:noindex
X-PUBLISHED-TTL:PT1H
BEGIN:VTIMEZONE
TZID:America/Los_Angeles
BEGIN:DAYLIGHT
TZOFFSETFROM:-0800
TZOFFSETTO:-0700
TZNAME:PDT
DTSTART:20240310T100000
END:DAYLIGHT
BEGIN:STANDARD
TZOFFSETFROM:-0700
TZOFFSETTO:-0800
TZNAME:PST
DTSTART:20241103T090000
END:STANDARD
BEGIN:DAYLIGHT
TZOFFSETFROM:-0800
TZOFFSETTO:-0700
TZNAME:PDT
DTSTART:20250309T100000
END:DAYLIGHT
BEGIN:STANDARD
TZOFFSETFROM:-0700
TZOFFSETTO:-0800
TZNAME:PST
DTSTART:20251102T090000
END:STANDARD
BEGIN:DAYLIGHT
TZOFFSETFROM:-0800
TZOFFSETTO:-0700
TZNAME:PDT
DTSTART:20260308T100000
END:DAYLIGHT
BEGIN:STANDARD
TZOFFSETFROM:-0700
TZOFFSETTO:-0800
TZNAME:PST
DTSTART:20261101T090000
END:STANDARD
END:VTIMEZONE
BEGIN:VEVENT
DTSTART;TZID=America/Los_Angeles:20251009T161500
DTEND;TZID=America/Los_Angeles:20251009T170000
DTSTAMP:20260425T050642
CREATED:20251006T194808Z
LAST-MODIFIED:20260408T184448Z
UID:5681-1760026500-1760029200@entrehermanos.org
SUMMARY:Free Community Class with [Solidcore] in Capitol Hill
DESCRIPTION:We are excited to partner with [Solidcore] in Capitol Hill for a fun community class geared at making excersise accesible and inclusive. \n“[Solidcore] is a high-intensity\, low-impact full-body workout on a pilates-inspired reformer. With the lights down and music up\, you’ll find a stronger version of yourself by the first song change. Our core workout utilizes slow and controlled movements scientifically designed to break down muscles to failure so they build back stronger. ” \nIt is recommended to bring water\, a small towel\, and clothes that are comfortable to work out in and don’t impede your range of motion. \nEntre Hermanos will be sharing info and resources before and after class! \n⚠️Space for this class is limited to 19\, please ensure that you can attend prior registering. \nClaim your spot: bit.ly/SolidcoreXEh \n— \n¡Estamos emocionades de asociarnos con [Solidcore] en Capitol Hill para una clase comunitaria divertida enfocada en hacer el ejercicio accesible e inclusivo! \n[Solidcore] es un entrenamiento de cuerpo completo\, de alta intensidad y bajo impacto\, realizado en una máquina inspirada en el pilates reformer. Con las luces bajas y la música alta\, encontrarás una versión más fuerte de ti misme desde la primera canción. Nuestro entrenamiento central utiliza movimientos lentos y controlados diseñados científicamente para llevar los músculos al punto de fatiga y así reconstruirlos más fuertes. \nSe recomienda traer agua\, una toalla pequeña y ropa cómoda que no limite tu rango de movimiento. \nEntre Hermanos estará compartiendo información y recursos antes y después de la clase. \n⚠️ El espacio está limitado a 19 personas. Por favor\, asegúrate de poder asistir antes de registrarte. \nReserva ahora: bit.ly/SolidcoreXEh
URL:https://entrehermanos.org/event/free-community-class-with-solidcore-in-capitol-hill/
LOCATION:Solidcore\, Capitol Hill Studio\, 1812 Broadway\, Seattle\, WA\, 98122\, United States
CATEGORIES:Fundraiser,Past Events
ATTACH;FMTTYPE=image/jpeg:https://entrehermanos.org/wp-content/uploads/2025/10/4.jpg
END:VEVENT
END:VCALENDAR