BEGIN:VCALENDAR
VERSION:2.0
PRODID:-//Entre Hermanos - ECPv6.15.20//NONSGML v1.0//EN
CALSCALE:GREGORIAN
METHOD:PUBLISH
X-WR-CALNAME:Entre Hermanos
X-ORIGINAL-URL:https://entrehermanos.org
X-WR-CALDESC:Events for Entre Hermanos
REFRESH-INTERVAL;VALUE=DURATION:PT1H
X-Robots-Tag:noindex
X-PUBLISHED-TTL:PT1H
BEGIN:VTIMEZONE
TZID:America/Los_Angeles
BEGIN:DAYLIGHT
TZOFFSETFROM:-0800
TZOFFSETTO:-0700
TZNAME:PDT
DTSTART:20240310T100000
END:DAYLIGHT
BEGIN:STANDARD
TZOFFSETFROM:-0700
TZOFFSETTO:-0800
TZNAME:PST
DTSTART:20241103T090000
END:STANDARD
BEGIN:DAYLIGHT
TZOFFSETFROM:-0800
TZOFFSETTO:-0700
TZNAME:PDT
DTSTART:20250309T100000
END:DAYLIGHT
BEGIN:STANDARD
TZOFFSETFROM:-0700
TZOFFSETTO:-0800
TZNAME:PST
DTSTART:20251102T090000
END:STANDARD
BEGIN:DAYLIGHT
TZOFFSETFROM:-0800
TZOFFSETTO:-0700
TZNAME:PDT
DTSTART:20260308T100000
END:DAYLIGHT
BEGIN:STANDARD
TZOFFSETFROM:-0700
TZOFFSETTO:-0800
TZNAME:PST
DTSTART:20261101T090000
END:STANDARD
END:VTIMEZONE
BEGIN:VEVENT
DTSTART;TZID=America/Los_Angeles:20250914T130000
DTEND;TZID=America/Los_Angeles:20250914T170000
DTSTAMP:20260425T073819
CREATED:20250912T222401Z
LAST-MODIFIED:20251006T194937Z
UID:5659-1757854800-1757869200@entrehermanos.org
SUMMARY:Concert El Grito: Celebrating Mexico's Independance
DESCRIPTION:Time & Location\n\n\nSep 14\, 2025\, 1:00 PM – 5:00 PM \nTown Hall Seattle\, 1119 8th Ave\, Seattle\, WA 98101\, USA \n\n\n\n\nAbout the event\n\n\n\nThis year\, El Grito Concert gets bigger! \nJoin us for the traditional Grito de Independencia celebration with a special concert in the heart of Seattle\, kicking off Hispanic Heritage Month.  \nEnjoy live music\, art\, food\, family-friendly activities\, and a community resource fair with helpful information and services. \nThis is a free\, welcoming\, and safe event\, a celebration of culture\, pride\, and community. \n🎟 Free event | Limited capacity
URL:https://entrehermanos.org/event/concert-el-grito-celebrating-mexicos-independance/
LOCATION:Town Hall\, 1119 8th Ave\, Seattle\, WA\, 98101\, United States
CATEGORIES:Past Events
ATTACH;FMTTYPE=image/png:https://entrehermanos.org/wp-content/uploads/2025/09/SEP14A-Carrusel-0-ENG.png
END:VEVENT
END:VCALENDAR