BEGIN:VCALENDAR
VERSION:2.0
PRODID:-//ENTRE HERMANOS - ECPv5.6.0//NONSGML v1.0//EN
CALSCALE:GREGORIAN
METHOD:PUBLISH
X-WR-CALNAME:ENTRE HERMANOS
X-ORIGINAL-URL:https://entrehermanos.org
X-WR-CALDESC:Events for ENTRE HERMANOS
BEGIN:VTIMEZONE
TZID:America/Los_Angeles
BEGIN:DAYLIGHT
TZOFFSETFROM:-0800
TZOFFSETTO:-0700
TZNAME:PDT
DTSTART:20210314T100000
END:DAYLIGHT
BEGIN:STANDARD
TZOFFSETFROM:-0700
TZOFFSETTO:-0800
TZNAME:PST
DTSTART:20211107T090000
END:STANDARD
END:VTIMEZONE
BEGIN:VEVENT
DTSTART;TZID=America/Los_Angeles:20210501T100000
DTEND;TZID=America/Los_Angeles:20210501T130000
DTSTAMP:20210430T032246
CREATED:20210401T191943Z
LAST-MODIFIED:20210408T234034Z
UID:3798-1619863200-1619874000@entrehermanos.org
SUMMARY:Cinco De Mayo Brunch
DESCRIPTION:
URL:https://entrehermanos.org/event/cinco-de-mayo-brunch/
LOCATION:Centilia Cultural Center\, 1660 S Roberto Maestas Festival St\, Seattle\, WA\, 98144\, United States
CATEGORIES:front,Spotlight
ATTACH;FMTTYPE=image/png:https://entrehermanos.org/wp-content/uploads/2021/04/Cinco-De-Mayo-final-flyer-2021_2_Mesa-de-trabajo-1.png
ORGANIZER;CN="Enrique%20Maymi":MAILTO:enrique@entrehermanos.org
END:VEVENT
END:VCALENDAR